BEGIN:VCALENDAR
VERSION:2.0
PRODID:-//Geraldton Senior High School - ECPv6.15.18//NONSGML v1.0//EN
CALSCALE:GREGORIAN
METHOD:PUBLISH
X-ORIGINAL-URL:https://geraldtonshs.wa.edu.au
X-WR-CALDESC:Events for Geraldton Senior High School
REFRESH-INTERVAL;VALUE=DURATION:PT1H
X-Robots-Tag:noindex
X-PUBLISHED-TTL:PT1H
BEGIN:VTIMEZONE
TZID:Australia/Perth
BEGIN:STANDARD
TZOFFSETFROM:+0800
TZOFFSETTO:+0800
TZNAME:AWST
DTSTART:20250101T000000
END:STANDARD
END:VTIMEZONE
BEGIN:VEVENT
DTSTART;VALUE=DATE:20260525
DTEND;VALUE=DATE:20260526
DTSTAMP:20260423T015113
CREATED:20260420T071411Z
LAST-MODIFIED:20260420T071411Z
UID:4257-1779667200-1779753599@geraldtonshs.wa.edu.au
SUMMARY:Year 11-12 ATAR Semester 1 Exams (4 days)
DESCRIPTION:
URL:https://geraldtonshs.wa.edu.au/event/year-11-12-atar-semester-1-exams-4-days/
CATEGORIES:School Events
END:VEVENT
BEGIN:VEVENT
DTSTART;VALUE=DATE:20260525
DTEND;VALUE=DATE:20260526
DTSTAMP:20260423T015113
CREATED:20260420T071559Z
LAST-MODIFIED:20260420T071559Z
UID:4267-1779667200-1779753599@geraldtonshs.wa.edu.au
SUMMARY:GCA Year 7-9 Midwest Cup
DESCRIPTION:
URL:https://geraldtonshs.wa.edu.au/event/gca-year-7-9-midwest-cup/
CATEGORIES:School Events
END:VEVENT
END:VCALENDAR