BEGIN:VCALENDAR
VERSION:2.0
PRODID:-//Geraldton Senior High School - ECPv6.15.18//NONSGML v1.0//EN
CALSCALE:GREGORIAN
METHOD:PUBLISH
X-WR-CALNAME:Geraldton Senior High School
X-ORIGINAL-URL:https://geraldtonshs.wa.edu.au
X-WR-CALDESC:Events for Geraldton Senior High School
REFRESH-INTERVAL;VALUE=DURATION:PT1H
X-Robots-Tag:noindex
X-PUBLISHED-TTL:PT1H
BEGIN:VTIMEZONE
TZID:Australia/Perth
BEGIN:STANDARD
TZOFFSETFROM:+0800
TZOFFSETTO:+0800
TZNAME:AWST
DTSTART:20250101T000000
END:STANDARD
END:VTIMEZONE
BEGIN:VEVENT
DTSTART;VALUE=DATE:20260508
DTEND;VALUE=DATE:20260509
DTSTAMP:20260422T000814
CREATED:20260420T071051Z
LAST-MODIFIED:20260420T071051Z
UID:4237-1778198400-1778284799@geraldtonshs.wa.edu.au
SUMMARY:Year 7-10 selected APEX students GoSH Hackathon 2 (Days)
DESCRIPTION:
URL:https://geraldtonshs.wa.edu.au/event/year-7-10-selected-apex-students-gosh-hackathon-2-days/
CATEGORIES:School Events
END:VEVENT
BEGIN:VEVENT
DTSTART;VALUE=DATE:20260508
DTEND;VALUE=DATE:20260509
DTSTAMP:20260422T000814
CREATED:20260420T071109Z
LAST-MODIFIED:20260420T071109Z
UID:4239-1778198400-1778284799@geraldtonshs.wa.edu.au
SUMMARY:GCA Mother's Day morning tea (Recess)
DESCRIPTION:
URL:https://geraldtonshs.wa.edu.au/event/gca-mothers-day-morning-tea-recess/
CATEGORIES:School Events
END:VEVENT
END:VCALENDAR