BEGIN:VCALENDAR
VERSION:2.0
PRODID:-//Geraldton Senior High School - ECPv6.15.18//NONSGML v1.0//EN
CALSCALE:GREGORIAN
METHOD:PUBLISH
X-WR-CALNAME:Geraldton Senior High School
X-ORIGINAL-URL:https://geraldtonshs.wa.edu.au
X-WR-CALDESC:Events for Geraldton Senior High School
REFRESH-INTERVAL;VALUE=DURATION:PT1H
X-Robots-Tag:noindex
X-PUBLISHED-TTL:PT1H
BEGIN:VTIMEZONE
TZID:Australia/Perth
BEGIN:STANDARD
TZOFFSETFROM:+0800
TZOFFSETTO:+0800
TZNAME:AWST
DTSTART:20250101T000000
END:STANDARD
END:VTIMEZONE
BEGIN:VEVENT
DTSTART;VALUE=DATE:20260504
DTEND;VALUE=DATE:20260505
DTSTAMP:20260421T120059
CREATED:20260420T070921Z
LAST-MODIFIED:20260420T070921Z
UID:4233-1777852800-1777939199@geraldtonshs.wa.edu.au
SUMMARY:Year 6 Taster Mornings (5 days)
DESCRIPTION:
URL:https://geraldtonshs.wa.edu.au/event/year-6-taster-mornings-5-days/
CATEGORIES:School Events
END:VEVENT
BEGIN:VEVENT
DTSTART;VALUE=DATE:20260504
DTEND;VALUE=DATE:20260508
DTSTAMP:20260421T120059
CREATED:20260420T070903Z
LAST-MODIFIED:20260420T070903Z
UID:4231-1777852800-1778198399@geraldtonshs.wa.edu.au
SUMMARY:OLNA Year 10-12 (4 days)
DESCRIPTION:
URL:https://geraldtonshs.wa.edu.au/event/olna-year-10-12-4-days-2/
CATEGORIES:School Events
END:VEVENT
END:VCALENDAR