BEGIN:VCALENDAR
VERSION:2.0
PRODID:-//Geraldton Senior High School - ECPv6.15.18//NONSGML v1.0//EN
CALSCALE:GREGORIAN
METHOD:PUBLISH
X-WR-CALNAME:Geraldton Senior High School
X-ORIGINAL-URL:https://geraldtonshs.wa.edu.au
X-WR-CALDESC:Events for Geraldton Senior High School
REFRESH-INTERVAL;VALUE=DURATION:PT1H
X-Robots-Tag:noindex
X-PUBLISHED-TTL:PT1H
BEGIN:VTIMEZONE
TZID:Australia/Perth
BEGIN:STANDARD
TZOFFSETFROM:+0800
TZOFFSETTO:+0800
TZNAME:AWST
DTSTART:20230101T000000
END:STANDARD
END:VTIMEZONE
BEGIN:VEVENT
DTSTART;VALUE=DATE:20240506
DTEND;VALUE=DATE:20240525
DTSTAMP:20260420T193513
CREATED:20240411T110544Z
LAST-MODIFIED:20240411T110544Z
UID:2425-1714953600-1716595199@geraldtonshs.wa.edu.au
SUMMARY:Year 12s ESTs
DESCRIPTION:
URL:https://geraldtonshs.wa.edu.au/event/year-12s-ests/
CATEGORIES:School Events
END:VEVENT
BEGIN:VEVENT
DTSTART;VALUE=DATE:20240520
DTEND;VALUE=DATE:20240525
DTSTAMP:20260420T193513
CREATED:20240411T110821Z
LAST-MODIFIED:20240411T110821Z
UID:2433-1716163200-1716595199@geraldtonshs.wa.edu.au
SUMMARY:Year 12 Exams
DESCRIPTION:
URL:https://geraldtonshs.wa.edu.au/event/year-12-exams/
CATEGORIES:School Events
END:VEVENT
BEGIN:VEVENT
DTSTART;VALUE=DATE:20240522
DTEND;VALUE=DATE:20240523
DTSTAMP:20260420T193513
CREATED:20240411T110851Z
LAST-MODIFIED:20240411T110851Z
UID:2435-1716336000-1716422399@geraldtonshs.wa.edu.au
SUMMARY:Year 9 Career Taster
DESCRIPTION:
URL:https://geraldtonshs.wa.edu.au/event/year-9-career-taster-2/
CATEGORIES:School Events
END:VEVENT
BEGIN:VEVENT
DTSTART;VALUE=DATE:20240522
DTEND;VALUE=DATE:20240523
DTSTAMP:20260420T193513
CREATED:20240411T110927Z
LAST-MODIFIED:20240411T110927Z
UID:2437-1716336000-1716422399@geraldtonshs.wa.edu.au
SUMMARY:Year 6 Curiosity Club
DESCRIPTION:
URL:https://geraldtonshs.wa.edu.au/event/year-6-curiosity-club/
CATEGORIES:School Events
END:VEVENT
END:VCALENDAR