BEGIN:VCALENDAR
VERSION:2.0
PRODID:-//Geraldton Senior High School - ECPv6.15.18//NONSGML v1.0//EN
CALSCALE:GREGORIAN
METHOD:PUBLISH
X-WR-CALNAME:Geraldton Senior High School
X-ORIGINAL-URL:https://geraldtonshs.wa.edu.au
X-WR-CALDESC:Events for Geraldton Senior High School
REFRESH-INTERVAL;VALUE=DURATION:PT1H
X-Robots-Tag:noindex
X-PUBLISHED-TTL:PT1H
BEGIN:VTIMEZONE
TZID:Australia/Perth
BEGIN:STANDARD
TZOFFSETFROM:+0800
TZOFFSETTO:+0800
TZNAME:AWST
DTSTART:20230101T000000
END:STANDARD
END:VTIMEZONE
BEGIN:VEVENT
DTSTART;VALUE=DATE:20240207
DTEND;VALUE=DATE:20240208
DTSTAMP:20260421T003604
CREATED:20240206T025249Z
LAST-MODIFIED:20240206T025249Z
UID:2330-1707264000-1707350399@geraldtonshs.wa.edu.au
SUMMARY:Family and Community Event for Aboriginal Students
DESCRIPTION:The event includes: \nClontarf \nSTARS \nFollow the Dream \nAIEO Staff
URL:https://geraldtonshs.wa.edu.au/event/family-and-community-event-for-aboriginal-students/
CATEGORIES:School Events
END:VEVENT
END:VCALENDAR