BEGIN:VCALENDAR
VERSION:2.0
PRODID:-//Geraldton Senior High School - ECPv6.15.18//NONSGML v1.0//EN
CALSCALE:GREGORIAN
METHOD:PUBLISH
X-WR-CALNAME:Geraldton Senior High School
X-ORIGINAL-URL:https://geraldtonshs.wa.edu.au
X-WR-CALDESC:Events for Geraldton Senior High School
REFRESH-INTERVAL;VALUE=DURATION:PT1H
X-Robots-Tag:noindex
X-PUBLISHED-TTL:PT1H
BEGIN:VTIMEZONE
TZID:Australia/Perth
BEGIN:STANDARD
TZOFFSETFROM:+0800
TZOFFSETTO:+0800
TZNAME:AWST
DTSTART:20220101T000000
END:STANDARD
END:VTIMEZONE
BEGIN:VEVENT
DTSTART;VALUE=DATE:20231127
DTEND;VALUE=DATE:20231130
DTSTAMP:20260421T042252
CREATED:20231018T084742Z
LAST-MODIFIED:20231018T084742Z
UID:1959-1701043200-1701302399@geraldtonshs.wa.edu.au
SUMMARY:Music Tour of Primary Schools
DESCRIPTION:
URL:https://geraldtonshs.wa.edu.au/event/music-tour-of-primary-schools/
END:VEVENT
BEGIN:VEVENT
DTSTART;VALUE=DATE:20231127
DTEND;VALUE=DATE:20231202
DTSTAMP:20260421T042252
CREATED:20231018T084805Z
LAST-MODIFIED:20231018T084805Z
UID:1961-1701043200-1701475199@geraldtonshs.wa.edu.au
SUMMARY:Year 9 ASPIRE Camp
DESCRIPTION:
URL:https://geraldtonshs.wa.edu.au/event/year-9-aspire-camp/
END:VEVENT
BEGIN:VEVENT
DTSTART;VALUE=DATE:20231128
DTEND;VALUE=DATE:20231129
DTSTAMP:20260421T042252
CREATED:20231018T084916Z
LAST-MODIFIED:20231018T084916Z
UID:1965-1701129600-1701215999@geraldtonshs.wa.edu.au
SUMMARY:Year 7-8 SEN Art excursion
DESCRIPTION:
URL:https://geraldtonshs.wa.edu.au/event/year-7-8-sen-art-excursion/
END:VEVENT
BEGIN:VEVENT
DTSTART;VALUE=DATE:20231128
DTEND;VALUE=DATE:20231129
DTSTAMP:20260421T042252
CREATED:20231018T084945Z
LAST-MODIFIED:20231018T084945Z
UID:1967-1701129600-1701215999@geraldtonshs.wa.edu.au
SUMMARY:Year 6 Clontarf Transition Day
DESCRIPTION:
URL:https://geraldtonshs.wa.edu.au/event/year-6-clontarf-transition-day/
END:VEVENT
END:VCALENDAR