BEGIN:VCALENDAR
VERSION:2.0
PRODID:-//Geraldton Senior High School - ECPv6.15.18//NONSGML v1.0//EN
CALSCALE:GREGORIAN
METHOD:PUBLISH
X-ORIGINAL-URL:https://geraldtonshs.wa.edu.au
X-WR-CALDESC:Events for Geraldton Senior High School
REFRESH-INTERVAL;VALUE=DURATION:PT1H
X-Robots-Tag:noindex
X-PUBLISHED-TTL:PT1H
BEGIN:VTIMEZONE
TZID:Australia/Perth
BEGIN:STANDARD
TZOFFSETFROM:+0800
TZOFFSETTO:+0800
TZNAME:AWST
DTSTART:20220101T000000
END:STANDARD
END:VTIMEZONE
BEGIN:VEVENT
DTSTART;VALUE=DATE:20231018
DTEND;VALUE=DATE:20231118
DTSTAMP:20260421T060654
CREATED:20231018T083043Z
LAST-MODIFIED:20231018T083043Z
UID:1925-1697587200-1700265599@geraldtonshs.wa.edu.au
SUMMARY:WACE Exams
DESCRIPTION:
URL:https://geraldtonshs.wa.edu.au/event/wace-exams/
END:VEVENT
BEGIN:VEVENT
DTSTART;VALUE=DATE:20231113
DTEND;VALUE=DATE:20231118
DTSTAMP:20260421T060654
CREATED:20231018T084202Z
LAST-MODIFIED:20231018T084202Z
UID:1945-1699833600-1700265599@geraldtonshs.wa.edu.au
SUMMARY:Year 11 Exams
DESCRIPTION:
URL:https://geraldtonshs.wa.edu.au/event/year-11-exams/
END:VEVENT
BEGIN:VEVENT
DTSTART;VALUE=DATE:20231113
DTEND;VALUE=DATE:20231118
DTSTAMP:20260421T060654
CREATED:20231018T084227Z
LAST-MODIFIED:20231018T084227Z
UID:1947-1699833600-1700265599@geraldtonshs.wa.edu.au
SUMMARY:Year 12 STARS Camp
DESCRIPTION:
URL:https://geraldtonshs.wa.edu.au/event/year-12-stars-camp/
END:VEVENT
BEGIN:VEVENT
DTSTART;VALUE=DATE:20231115
DTEND;VALUE=DATE:20231118
DTSTAMP:20260421T060654
CREATED:20231018T084455Z
LAST-MODIFIED:20231018T084455Z
UID:1951-1700006400-1700265599@geraldtonshs.wa.edu.au
SUMMARY:Year 10 Clontarf End of Year Camp
DESCRIPTION:
URL:https://geraldtonshs.wa.edu.au/event/year-10-clontarf-end-of-year-camp/
END:VEVENT
BEGIN:VEVENT
DTSTART;VALUE=DATE:20231117
DTEND;VALUE=DATE:20231118
DTSTAMP:20260421T060654
CREATED:20231018T084549Z
LAST-MODIFIED:20231018T084549Z
UID:1953-1700179200-1700265599@geraldtonshs.wa.edu.au
SUMMARY:Year 9 Outdoor Pursuits Day trip
DESCRIPTION:
URL:https://geraldtonshs.wa.edu.au/event/year-9-outdoor-pursuits-day-trip-2/
END:VEVENT
END:VCALENDAR