BEGIN:VCALENDAR
VERSION:2.0
PRODID:-//Geraldton Senior High School - ECPv6.15.18//NONSGML v1.0//EN
CALSCALE:GREGORIAN
METHOD:PUBLISH
X-ORIGINAL-URL:https://geraldtonshs.wa.edu.au
X-WR-CALDESC:Events for Geraldton Senior High School
REFRESH-INTERVAL;VALUE=DURATION:PT1H
X-Robots-Tag:noindex
X-PUBLISHED-TTL:PT1H
BEGIN:VTIMEZONE
TZID:Australia/Perth
BEGIN:STANDARD
TZOFFSETFROM:+0800
TZOFFSETTO:+0800
TZNAME:AWST
DTSTART:20220101T000000
END:STANDARD
END:VTIMEZONE
BEGIN:VEVENT
DTSTART;VALUE=DATE:20231018
DTEND;VALUE=DATE:20231118
DTSTAMP:20260421T075838
CREATED:20231018T083043Z
LAST-MODIFIED:20231018T083043Z
UID:1925-1697587200-1700265599@geraldtonshs.wa.edu.au
SUMMARY:WACE Exams
DESCRIPTION:
URL:https://geraldtonshs.wa.edu.au/event/wace-exams/
END:VEVENT
BEGIN:VEVENT
DTSTART;VALUE=DATE:20231102
DTEND;VALUE=DATE:20231106
DTSTAMP:20260421T075838
CREATED:20231018T083310Z
LAST-MODIFIED:20231018T083310Z
UID:1931-1698883200-1699228799@geraldtonshs.wa.edu.au
SUMMARY:Year 8/9 Clontarf Wadjemup Cup
DESCRIPTION:
URL:https://geraldtonshs.wa.edu.au/event/year-8-9-clontarf-wadjemup-cup/
END:VEVENT
BEGIN:VEVENT
DTSTART;VALUE=DATE:20231103
DTEND;VALUE=DATE:20231107
DTSTAMP:20260421T075838
CREATED:20231018T083436Z
LAST-MODIFIED:20231018T083436Z
UID:1935-1698969600-1699315199@geraldtonshs.wa.edu.au
SUMMARY:STARS Cricket Camp
DESCRIPTION:
URL:https://geraldtonshs.wa.edu.au/event/stars-cricket-camp/
END:VEVENT
END:VCALENDAR