BEGIN:VCALENDAR
VERSION:2.0
PRODID:-//Geraldton Senior High School - ECPv6.15.18//NONSGML v1.0//EN
CALSCALE:GREGORIAN
METHOD:PUBLISH
X-WR-CALNAME:Geraldton Senior High School
X-ORIGINAL-URL:https://geraldtonshs.wa.edu.au
X-WR-CALDESC:Events for Geraldton Senior High School
REFRESH-INTERVAL;VALUE=DURATION:PT1H
X-Robots-Tag:noindex
X-PUBLISHED-TTL:PT1H
BEGIN:VTIMEZONE
TZID:Australia/Perth
BEGIN:STANDARD
TZOFFSETFROM:+0800
TZOFFSETTO:+0800
TZNAME:AWST
DTSTART:20220101T000000
END:STANDARD
END:VTIMEZONE
BEGIN:VEVENT
DTSTART;VALUE=DATE:20231018
DTEND;VALUE=DATE:20231118
DTSTAMP:20260421T093813
CREATED:20231018T083043Z
LAST-MODIFIED:20231018T083043Z
UID:1925-1697587200-1700265599@geraldtonshs.wa.edu.au
SUMMARY:WACE Exams
DESCRIPTION:
URL:https://geraldtonshs.wa.edu.au/event/wace-exams/
END:VEVENT
BEGIN:VEVENT
DTSTART;TZID=Australia/Perth:20231021T183000
DTEND;TZID=Australia/Perth:20231021T220000
DTSTAMP:20260421T093813
CREATED:20231009T025958Z
LAST-MODIFIED:20231018T090000Z
UID:1883-1697913000-1697925600@geraldtonshs.wa.edu.au
SUMMARY:Bands Spectacular 🎤🎼
DESCRIPTION:
URL:https://geraldtonshs.wa.edu.au/event/band-spectacular-2/
LOCATION:Queens Park Theatre\, 75 Cathedral Avenue\, Geraldton\, Western Australia\, 6530\, Australia
END:VEVENT
END:VCALENDAR