BEGIN:VCALENDAR
VERSION:2.0
PRODID:-//Geraldton Senior High School - ECPv6.15.18//NONSGML v1.0//EN
CALSCALE:GREGORIAN
METHOD:PUBLISH
X-ORIGINAL-URL:https://geraldtonshs.wa.edu.au
X-WR-CALDESC:Events for Geraldton Senior High School
REFRESH-INTERVAL;VALUE=DURATION:PT1H
X-Robots-Tag:noindex
X-PUBLISHED-TTL:PT1H
BEGIN:VTIMEZONE
TZID:Australia/Perth
BEGIN:STANDARD
TZOFFSETFROM:+0800
TZOFFSETTO:+0800
TZNAME:AWST
DTSTART:20220101T000000
END:STANDARD
END:VTIMEZONE
BEGIN:VEVENT
DTSTART;VALUE=DATE:20231018
DTEND;VALUE=DATE:20231021
DTSTAMP:20260421T093927
CREATED:20231018T082834Z
LAST-MODIFIED:20231018T082834Z
UID:1921-1697587200-1697846399@geraldtonshs.wa.edu.au
SUMMARY:Year 10 STARS Camp
DESCRIPTION:
URL:https://geraldtonshs.wa.edu.au/event/year-10-stars-camp/
END:VEVENT
BEGIN:VEVENT
DTSTART;VALUE=DATE:20231018
DTEND;VALUE=DATE:20231118
DTSTAMP:20260421T093927
CREATED:20231018T083043Z
LAST-MODIFIED:20231018T083043Z
UID:1925-1697587200-1700265599@geraldtonshs.wa.edu.au
SUMMARY:WACE Exams
DESCRIPTION:
URL:https://geraldtonshs.wa.edu.au/event/wace-exams/
END:VEVENT
BEGIN:VEVENT
DTSTART;VALUE=DATE:20231019
DTEND;VALUE=DATE:20231021
DTSTAMP:20260421T093927
CREATED:20231011T083511Z
LAST-MODIFIED:20231011T083511Z
UID:1905-1697673600-1697846399@geraldtonshs.wa.edu.au
SUMMARY:Yr11 Outdoor Ed Camp (Group 2)
DESCRIPTION:
URL:https://geraldtonshs.wa.edu.au/event/yr11-outdoor-ed-camp-group-2/
END:VEVENT
BEGIN:VEVENT
DTSTART;VALUE=DATE:20231020
DTEND;VALUE=DATE:20231021
DTSTAMP:20260421T093927
CREATED:20231011T083545Z
LAST-MODIFIED:20231011T083545Z
UID:1907-1697760000-1697846399@geraldtonshs.wa.edu.au
SUMMARY:2023 Leavers Assembly and Luncheon
DESCRIPTION:
URL:https://geraldtonshs.wa.edu.au/event/2023-leavers-assembly-and-luncheon/
END:VEVENT
BEGIN:VEVENT
DTSTART;TZID=Australia/Perth:20231020T173000
DTEND;TZID=Australia/Perth:20231020T200000
DTSTAMP:20260421T093927
CREATED:20230809T083842Z
LAST-MODIFIED:20231018T090042Z
UID:1825-1697823000-1697832000@geraldtonshs.wa.edu.au
SUMMARY:Young Jewellers Awards ✨💍💎
DESCRIPTION:The Latitude Jewellers Young Jewellers Awards began in 2014 and has grown to become a very prestigious event in the Midwest\, with over 65 students participating every year.\nHigh School students are invited to take part\, and each are given an Abrolhos Island pearl and free rein to create a jewellery masterpiece.\nThis event builds the students confidence in jewellery design and life. \nYoung Jewellers Awards Entry form 2023
URL:https://geraldtonshs.wa.edu.au/event/young-jewellers-awards/
END:VEVENT
END:VCALENDAR