BEGIN:VCALENDAR
VERSION:2.0
PRODID:-//Geraldton Senior High School - ECPv6.15.18//NONSGML v1.0//EN
CALSCALE:GREGORIAN
METHOD:PUBLISH
X-WR-CALNAME:Geraldton Senior High School
X-ORIGINAL-URL:https://geraldtonshs.wa.edu.au
X-WR-CALDESC:Events for Geraldton Senior High School
REFRESH-INTERVAL;VALUE=DURATION:PT1H
X-Robots-Tag:noindex
X-PUBLISHED-TTL:PT1H
BEGIN:VTIMEZONE
TZID:Australia/Perth
BEGIN:STANDARD
TZOFFSETFROM:+0800
TZOFFSETTO:+0800
TZNAME:AWST
DTSTART:20220101T000000
END:STANDARD
END:VTIMEZONE
BEGIN:VEVENT
DTSTART;VALUE=DATE:20230923
DTEND;VALUE=DATE:20231010
DTSTAMP:20260423T182503
CREATED:20230816T022619Z
LAST-MODIFIED:20230816T022734Z
UID:1835-1695427200-1696895999@geraldtonshs.wa.edu.au
SUMMARY:School Holidays - Term 3
DESCRIPTION:
URL:https://geraldtonshs.wa.edu.au/event/school-holidays-term-3/
END:VEVENT
BEGIN:VEVENT
DTSTART;VALUE=DATE:20231009
DTEND;VALUE=DATE:20231010
DTSTAMP:20260423T182503
CREATED:20230809T073206Z
LAST-MODIFIED:20230809T073206Z
UID:1815-1696809600-1696895999@geraldtonshs.wa.edu.au
SUMMARY:Staff Development Day (Staff only)\, Term 4
DESCRIPTION:
URL:https://geraldtonshs.wa.edu.au/event/staff-development-day-staff-only-term-4/
END:VEVENT
BEGIN:VEVENT
DTSTART;TZID=Australia/Perth:20231009T190000
DTEND;TZID=Australia/Perth:20231009T220000
DTSTAMP:20260423T182503
CREATED:20231009T024859Z
LAST-MODIFIED:20231009T024859Z
UID:1881-1696878000-1696888800@geraldtonshs.wa.edu.au
SUMMARY:Band Spectacular
DESCRIPTION:
URL:https://geraldtonshs.wa.edu.au/event/band-spectacular/
END:VEVENT
END:VCALENDAR