BEGIN:VCALENDAR
VERSION:2.0
PRODID:-//Geraldton Senior High School - ECPv6.15.18//NONSGML v1.0//EN
CALSCALE:GREGORIAN
METHOD:PUBLISH
X-ORIGINAL-URL:https://geraldtonshs.wa.edu.au
X-WR-CALDESC:Events for Geraldton Senior High School
REFRESH-INTERVAL;VALUE=DURATION:PT1H
X-Robots-Tag:noindex
X-PUBLISHED-TTL:PT1H
BEGIN:VTIMEZONE
TZID:Australia/Perth
BEGIN:STANDARD
TZOFFSETFROM:+0800
TZOFFSETTO:+0800
TZNAME:AWST
DTSTART:20220101T000000
END:STANDARD
END:VTIMEZONE
BEGIN:VEVENT
DTSTART;VALUE=DATE:20230918
DTEND;VALUE=DATE:20230922
DTSTAMP:20260421T112557
CREATED:20230809T072759Z
LAST-MODIFIED:20230809T072759Z
UID:1804-1694995200-1695340799@geraldtonshs.wa.edu.au
SUMMARY:Yr11 STARS Camp
DESCRIPTION:
URL:https://geraldtonshs.wa.edu.au/event/yr11-stars-camp/
END:VEVENT
BEGIN:VEVENT
DTSTART;VALUE=DATE:20230920
DTEND;VALUE=DATE:20230923
DTSTAMP:20260421T112557
CREATED:20230809T073006Z
LAST-MODIFIED:20230809T073021Z
UID:1810-1695168000-1695427199@geraldtonshs.wa.edu.au
SUMMARY:Yr12 SIDE Exams
DESCRIPTION:
URL:https://geraldtonshs.wa.edu.au/event/yrr2-side-exams/
END:VEVENT
BEGIN:VEVENT
DTSTART;TZID=Australia/Perth:20230920T120000
DTEND;TZID=Australia/Perth:20230920T140000
DTSTAMP:20260421T112557
CREATED:20230911T060821Z
LAST-MODIFIED:20230911T060929Z
UID:1869-1695211200-1695218400@geraldtonshs.wa.edu.au
SUMMARY:Good Standing Reward Day - Years 9 & 10
DESCRIPTION:
URL:https://geraldtonshs.wa.edu.au/event/good-standing-reward-day-year-9-10/
END:VEVENT
BEGIN:VEVENT
DTSTART;TZID=Australia/Perth:20230920T153000
DTEND;TZID=Australia/Perth:20230920T163000
DTSTAMP:20260421T112557
CREATED:20230809T072908Z
LAST-MODIFIED:20230809T072908Z
UID:1808-1695223800-1695227400@geraldtonshs.wa.edu.au
SUMMARY:School Tour
DESCRIPTION:
URL:https://geraldtonshs.wa.edu.au/event/school-tour-2/
END:VEVENT
END:VCALENDAR