BEGIN:VCALENDAR
VERSION:2.0
PRODID:-//Geraldton Senior High School - ECPv6.15.18//NONSGML v1.0//EN
CALSCALE:GREGORIAN
METHOD:PUBLISH
X-ORIGINAL-URL:https://geraldtonshs.wa.edu.au
X-WR-CALDESC:Events for Geraldton Senior High School
REFRESH-INTERVAL;VALUE=DURATION:PT1H
X-Robots-Tag:noindex
X-PUBLISHED-TTL:PT1H
BEGIN:VTIMEZONE
TZID:Australia/Perth
BEGIN:STANDARD
TZOFFSETFROM:+0800
TZOFFSETTO:+0800
TZNAME:AWST
DTSTART:20220101T000000
END:STANDARD
END:VTIMEZONE
BEGIN:VEVENT
DTSTART;VALUE=DATE:20230821
DTEND;VALUE=DATE:20230826
DTSTAMP:20260421T130603
CREATED:20230809T065630Z
LAST-MODIFIED:20230809T065630Z
UID:1786-1692576000-1693007999@geraldtonshs.wa.edu.au
SUMMARY:NAIDOC Week
DESCRIPTION:
URL:https://geraldtonshs.wa.edu.au/event/naidoc-week/
END:VEVENT
BEGIN:VEVENT
DTSTART;TZID=Australia/Perth:20230824T090000
DTEND;TZID=Australia/Perth:20230826T170000
DTSTAMP:20260421T130603
CREATED:20230809T070000Z
LAST-MODIFIED:20230809T070000Z
UID:1792-1692867600-1693069200@geraldtonshs.wa.edu.au
SUMMARY:Contemporary (Rock) Band Camp
DESCRIPTION:
URL:https://geraldtonshs.wa.edu.au/event/contemporary-rock-band-camp/
END:VEVENT
BEGIN:VEVENT
DTSTART;VALUE=DATE:20230825
DTEND;VALUE=DATE:20230826
DTSTAMP:20260421T130603
CREATED:20230809T070024Z
LAST-MODIFIED:20230823T012353Z
UID:1794-1692921600-1693007999@geraldtonshs.wa.edu.au
SUMMARY:Athletics Carnival
DESCRIPTION:Athletics Rotations Program 2023 \nSports Day Lunch Order Form
URL:https://geraldtonshs.wa.edu.au/event/athletics-carnival/
END:VEVENT
END:VCALENDAR