BEGIN:VCALENDAR
VERSION:2.0
PRODID:-//Geraldton Senior High School - ECPv6.15.18//NONSGML v1.0//EN
CALSCALE:GREGORIAN
METHOD:PUBLISH
X-WR-CALNAME:Geraldton Senior High School
X-ORIGINAL-URL:https://geraldtonshs.wa.edu.au
X-WR-CALDESC:Events for Geraldton Senior High School
REFRESH-INTERVAL;VALUE=DURATION:PT1H
X-Robots-Tag:noindex
X-PUBLISHED-TTL:PT1H
BEGIN:VTIMEZONE
TZID:Australia/Perth
BEGIN:STANDARD
TZOFFSETFROM:+0800
TZOFFSETTO:+0800
TZNAME:AWST
DTSTART:20220101T000000
END:STANDARD
END:VTIMEZONE
BEGIN:VEVENT
DTSTART;VALUE=DATE:20230812
DTEND;VALUE=DATE:20230821
DTSTAMP:20260421T130544
CREATED:20230809T064535Z
LAST-MODIFIED:20230809T064732Z
UID:1768-1691798400-1692575999@geraldtonshs.wa.edu.au
SUMMARY:Science Week
DESCRIPTION:
URL:https://geraldtonshs.wa.edu.au/event/science-week/
END:VEVENT
BEGIN:VEVENT
DTSTART;VALUE=DATE:20230815
DTEND;VALUE=DATE:20230818
DTSTAMP:20260421T130544
CREATED:20230809T065020Z
LAST-MODIFIED:20230809T065020Z
UID:1774-1692057600-1692316799@geraldtonshs.wa.edu.au
SUMMARY:Yr 10/12 Clontarf Camp
DESCRIPTION:
URL:https://geraldtonshs.wa.edu.au/event/yr-10-12-clontarf-camp/
END:VEVENT
BEGIN:VEVENT
DTSTART;VALUE=DATE:20230815
DTEND;VALUE=DATE:20230818
DTSTAMP:20260421T130544
CREATED:20230809T065143Z
LAST-MODIFIED:20230809T065143Z
UID:1778-1692057600-1692316799@geraldtonshs.wa.edu.au
SUMMARY:Yr9 STARS Camp
DESCRIPTION:
URL:https://geraldtonshs.wa.edu.au/event/yr9-stars-camp/
END:VEVENT
END:VCALENDAR