BEGIN:VCALENDAR
VERSION:2.0
PRODID:-//Geraldton Senior High School - ECPv6.15.18//NONSGML v1.0//EN
CALSCALE:GREGORIAN
METHOD:PUBLISH
X-ORIGINAL-URL:https://geraldtonshs.wa.edu.au
X-WR-CALDESC:Events for Geraldton Senior High School
REFRESH-INTERVAL;VALUE=DURATION:PT1H
X-Robots-Tag:noindex
X-PUBLISHED-TTL:PT1H
BEGIN:VTIMEZONE
TZID:Australia/Perth
BEGIN:STANDARD
TZOFFSETFROM:+0800
TZOFFSETTO:+0800
TZNAME:AWST
DTSTART:20220101T000000
END:STANDARD
END:VTIMEZONE
BEGIN:VEVENT
DTSTART;TZID=Australia/Perth:20230802T080000
DTEND;TZID=Australia/Perth:20230805T150000
DTSTAMP:20260421T130611
CREATED:20230809T064211Z
LAST-MODIFIED:20230809T064211Z
UID:1764-1690963200-1691247600@geraldtonshs.wa.edu.au
SUMMARY:Senior Band Camp 2023
DESCRIPTION:
URL:https://geraldtonshs.wa.edu.au/event/senior-band-camp-2023/
END:VEVENT
END:VCALENDAR